BEGIN:VCALENDAR
VERSION:2.0
PRODID:-//Alliance Française d&#039;Örebro - ECPv6.11.2.1//NONSGML v1.0//EN
CALSCALE:GREGORIAN
METHOD:PUBLISH
X-WR-CALNAME:Alliance Française d&#039;Örebro
X-ORIGINAL-URL:https://alliancefr.se/orebro
X-WR-CALDESC:Évènements pour Alliance Française d&#039;Örebro
REFRESH-INTERVAL;VALUE=DURATION:PT1H
X-Robots-Tag:noindex
X-PUBLISHED-TTL:PT1H
BEGIN:VTIMEZONE
TZID:Europe/Paris
BEGIN:DAYLIGHT
TZOFFSETFROM:+0100
TZOFFSETTO:+0200
TZNAME:CEST
DTSTART:20230326T010000
END:DAYLIGHT
BEGIN:STANDARD
TZOFFSETFROM:+0200
TZOFFSETTO:+0100
TZNAME:CET
DTSTART:20231029T010000
END:STANDARD
END:VTIMEZONE
BEGIN:VEVENT
DTSTART;TZID=Europe/Paris:20231018T180000
DTEND;TZID=Europe/Paris:20231018T210000
DTSTAMP:20260421T061619
CREATED:20230929T124439Z
LAST-MODIFIED:20230929T124439Z
UID:9689-1697652000-1697662800@alliancefr.se
SUMMARY:Soirée Pub
DESCRIPTION:Rendez-vous automnal au Bishops Arms pour un moment convivial autour d’une boisson ! Nous nous retrouverons le mercredi 18 octobre à 18h.  \nSur inscription \n\nHöstträff på Bishops Arms för att få en trevlig stund och dricka ett glas. Vi ses onsdagen den 18 oktober kl 18.00. \n Anmälan
URL:https://alliancefr.se/orebro/event/soiree-pub/
LOCATION:The Bishops Arms\, Drottninggatan 1\, Örebro\, 702 12
CATEGORIES:Pub
ATTACH;FMTTYPE=image/png:https://alliancefr.se/orebro/wp-content/uploads/sites/5/2023/09/Pub-septembre-2.png
END:VEVENT
END:VCALENDAR