BEGIN:VCALENDAR
VERSION:2.0
PRODID:-//Alliance Française d&#039;Örebro - ECPv6.11.2.1//NONSGML v1.0//EN
CALSCALE:GREGORIAN
METHOD:PUBLISH
X-WR-CALNAME:Alliance Française d&#039;Örebro
X-ORIGINAL-URL:https://alliancefr.se/orebro
X-WR-CALDESC:Évènements pour Alliance Française d&#039;Örebro
REFRESH-INTERVAL;VALUE=DURATION:PT1H
X-Robots-Tag:noindex
X-PUBLISHED-TTL:PT1H
BEGIN:VTIMEZONE
TZID:Europe/Paris
BEGIN:DAYLIGHT
TZOFFSETFROM:+0100
TZOFFSETTO:+0200
TZNAME:CEST
DTSTART:20230326T010000
END:DAYLIGHT
BEGIN:STANDARD
TZOFFSETFROM:+0200
TZOFFSETTO:+0100
TZNAME:CET
DTSTART:20231029T010000
END:STANDARD
END:VTIMEZONE
BEGIN:VEVENT
DTSTART;TZID=Europe/Paris:20230913T180000
DTEND;TZID=Europe/Paris:20230913T200000
DTSTAMP:20260421T075630
CREATED:20230815T093135Z
LAST-MODIFIED:20231002T131439Z
UID:9002-1694628000-1694635200@alliancefr.se
SUMMARY:PUB
DESCRIPTION:Il vous a sûrement manqué pendant l’été\, notre rendez-vous mensuel au Bishop est de retour ! Comme en juin\, on espère pouvoir profiter de la terrasse pour partager ce moment convivial avec vous. 🍻 \nSur inscription \n\nNi har säkert saknat våra månatliga träffar på Bishops Arms under sommaren och nu är de tillbaka! Som i juni hoppas vi kunna njuta ute på terrassen för att dela denna trevliga stund med er🍻 \n Anmälan
URL:https://alliancefr.se/orebro/event/pub-2/
LOCATION:The Bishops Arms\, Drottninggatan 1\, Örebro\, 702 12
CATEGORIES:Pub
ATTACH;FMTTYPE=image/png:https://alliancefr.se/orebro/wp-content/uploads/sites/5/2023/08/Pub-octobre.png
END:VEVENT
END:VCALENDAR