BEGIN:VCALENDAR
VERSION:2.0
PRODID:-//Alliance Française d&#039;Örebro - ECPv6.11.2.1//NONSGML v1.0//EN
CALSCALE:GREGORIAN
METHOD:PUBLISH
X-ORIGINAL-URL:https://alliancefr.se/orebro
X-WR-CALDESC:Évènements pour Alliance Française d&#039;Örebro
REFRESH-INTERVAL;VALUE=DURATION:PT1H
X-Robots-Tag:noindex
X-PUBLISHED-TTL:PT1H
BEGIN:VTIMEZONE
TZID:Europe/Paris
BEGIN:DAYLIGHT
TZOFFSETFROM:+0100
TZOFFSETTO:+0200
TZNAME:CEST
DTSTART:20230326T010000
END:DAYLIGHT
BEGIN:STANDARD
TZOFFSETFROM:+0200
TZOFFSETTO:+0100
TZNAME:CET
DTSTART:20231029T010000
END:STANDARD
END:VTIMEZONE
BEGIN:VEVENT
DTSTART;TZID=Europe/Paris:20231014T103000
DTEND;TZID=Europe/Paris:20231014T130000
DTSTAMP:20260421T043737
CREATED:20230918T122518Z
LAST-MODIFIED:20231003T090620Z
UID:9129-1697279400-1697288400@alliancefr.se
SUMMARY:Atelier pédagogique : Balade en forêt
DESCRIPTION:Pour ce mois d’octobre\, nous partirons en forêt avec les enfants\, à la découverte de la nature et des animaux. 🐗🦉🦌 \nVocabulaire\, jeux ou encore comptines seront au programme. \nApprentissage ludique autour d’un thème automnal garanti ! 🍂🍁 \n Merci de vous inscrire à l’avance et d’indiquer l’âge de vos enfants : nous pourrons ainsi proposer des activités adaptées à leur âge: contact@alliancefrancaise-orebro.eu.  \nLes ateliers pédagogiques sont payants:\n60kr/1enfant/1 atelier et 120kr pour les non-membres\n150kr/1 enfant/3 ateliers (forfait pour les 3 ateliers de la saison)\n150kr/3 enfants/1 ateliers (forfait pour les familles)
URL:https://alliancefr.se/orebro/event/atelier-pedagogique-balade-en-foret/
LOCATION:Start Centrum\, Rudbecksgatan 26\, Örebro\, Sweden
CATEGORIES:Atelier pédagogique
ATTACH;FMTTYPE=image/png:https://alliancefr.se/orebro/wp-content/uploads/sites/5/2023/09/Atelier-pedagogique-octobre.png
END:VEVENT
END:VCALENDAR