BEGIN:VCALENDAR
VERSION:2.0
PRODID:-//Alliance Française d&#039;Örebro - ECPv6.11.2.1//NONSGML v1.0//EN
CALSCALE:GREGORIAN
METHOD:PUBLISH
X-ORIGINAL-URL:https://alliancefr.se/orebro
X-WR-CALDESC:Évènements pour Alliance Française d&#039;Örebro
REFRESH-INTERVAL;VALUE=DURATION:PT1H
X-Robots-Tag:noindex
X-PUBLISHED-TTL:PT1H
BEGIN:VTIMEZONE
TZID:Europe/Paris
BEGIN:DAYLIGHT
TZOFFSETFROM:+0100
TZOFFSETTO:+0200
TZNAME:CEST
DTSTART:20240331T010000
END:DAYLIGHT
BEGIN:STANDARD
TZOFFSETFROM:+0200
TZOFFSETTO:+0100
TZNAME:CET
DTSTART:20241027T010000
END:STANDARD
END:VTIMEZONE
BEGIN:VEVENT
DTSTART;TZID=Europe/Paris:20240316T103000
DTEND;TZID=Europe/Paris:20240316T130000
DTSTAMP:20260420T194509
CREATED:20240304T131903Z
LAST-MODIFIED:20241004T152850Z
UID:11221-1710585000-1710594000@alliancefr.se
SUMMARY:Atelier pédagogique pour les enfants
DESCRIPTION:Date : Samedi 16 mars de 10h30 à 13h \nLieu : Startcentrum \nNous organisons un atelier dédié aux enfants le samedi 16 mars\, de 10h30 à 13h. Apprentissage ludique garanti ! \nPour s’inscrire\, cliquez ici. \n___________________ \nDatum : Lördag den 16 mars 10:30 – 13:00 \nPlats : Startcentrum \nVi ordnar en workshop för fransktalande barn lördagen den 16 mars\, från 10:30 till 13:00. Lärande genom lek är garanterat ! \nFör att anmäla dig\, klicka här.
URL:https://alliancefr.se/orebro/event/atelier-pedagogique-pour-les-enfants/
LOCATION:Start Centrum\, Rudbecksgatan 26\, Örebro\, Sweden
CATEGORIES:Atelier pédagogique
ATTACH;FMTTYPE=image/png:https://alliancefr.se/orebro/wp-content/uploads/sites/5/2024/03/Atelier-pedagogique-12032024.png
ORGANIZER;CN="AF%C3%96":MAILTO:workshop@alliancefrancaise-orebro.eu
END:VEVENT
END:VCALENDAR